BEGIN:VCALENDAR
VERSION:2.0
PRODID:-//Thump Boxing International - Event Espresso Version 3.1.37.18.P//NONSGML v1.0//EN
METHOD:PUBLISH
X-ORIGINAL-URL:https://thumpboxing.com.au/event-registration/?ee=405
X-WR-CALDESC:Thump Boxing International
X-WR-TIMEZONE:Australia/Sydney
BEGIN:VEVENT
DTSTAMP:20210225T204253
UID:7a9b9cfd46e0ba297bedc2f95b0cb0a3-60380bcce2ab33.10293227@https://thumpboxing.com.au/event-registration/?ee=405
ORGANIZER:MAILTO:info@thumpboxing.com
DTSTART:20201227T090000
DTEND:20201227T153000
STATUS:CONFIRMED
URL:https://thumpboxing.com.au/event-registration/?ee=405
SUMMARY:Advance Instructor Course-Melbourne VIC
LOCATION:Marvel Stadium-720 Bourke Street Docklands, Victoria 3008
END:VEVENT
END:VCALENDAR
