BEGIN:VCALENDAR
VERSION:2.0
PRODID:-//Thump Boxing International - Event Espresso Version 3.1.37.18.P//NONSGML v1.0//EN
METHOD:PUBLISH
X-ORIGINAL-URL:https://thumpboxing.com.au/event-registration/?ee=415
X-WR-CALDESC:Thump Boxing International
X-WR-TIMEZONE:Australia/Sydney
BEGIN:VEVENT
DTSTAMP:20210225T204253
UID:7a9b9cfd46e0ba297bedc2f95b0cb0a3-60380bcce2ab33.10293227@https://thumpboxing.com.au/event-registration/?ee=415
ORGANIZER:MAILTO:info@thumpboxing.com
DTSTART:20210420T090000
DTEND:20210420T160000
STATUS:CONFIRMED
URL:https://thumpboxing.com.au/event-registration/?ee=415
SUMMARY:Super Kick Instructor Course- Perth WA
LOCATION:Cnr Broun Avenue
END:VEVENT
END:VCALENDAR
